BEGIN:VCALENDAR
VERSION:2.0
PRODID:-// eRoom plugin //NONSGML v1.0//EN
CALSCALE:GREGORIAN
BEGIN:VEVENT
UID:eRoom-1776672981
SUMMARY:Análisis y proyección de estados financieros: Sesión 3
LOCATION:
DESCRIPTION:Análisis y proyección de estados financieros: Sesión 3 is in
 viting you to a scheduled Zoom meeting.\n\nJoin Zoom Meeting\nhttps://us05
 web.zoom.us/j/89592257414?pwd=HryeKEv2daRTiyHXB5UdFUywj5E3Fa.1\n\nMeeting 
 ID: 89592257414\nPasscode: 123\n
URL;VALUE=URI:https://us05web.zoom.us/j/89592257414?pwd=HryeKEv2daRTiyHXB5UdFUywj5E3Fa.1
DTSTART:20250112T200000Z
DTEND:20250112T230000Z
DTSTAMP:20260420T081621Z
BEGIN:VALARM
ACTION:DISPLAY
RIGGER;RELATED=START:-PT00H15M00S
BEGIN:VALARM
END:VEVENT
END:VCALENDAR